Package: artMS Version: 1.24.0 Command: F:\biocbuild\bbs-3.20-bioc\R\bin\R.exe CMD check --no-multiarch --install=check:artMS.install-out.txt --library=F:\biocbuild\bbs-3.20-bioc\R\library --no-vignettes --timings artMS_1.24.0.tar.gz StartedAt: 2025-03-31 22:58:06 -0400 (Mon, 31 Mar 2025) EndedAt: 2025-03-31 23:01:44 -0400 (Mon, 31 Mar 2025) EllapsedTime: 217.9 seconds RetCode: 0 Status: OK CheckDir: artMS.Rcheck Warnings: 0