Package: artMS Version: 1.24.0 Command: rm -rf artMS.buildbin-libdir && mkdir artMS.buildbin-libdir && F:\biocbuild\bbs-3.20-bioc\R\bin\R.exe CMD INSTALL --build --library=artMS.buildbin-libdir artMS_1.24.0.tar.gz StartedAt: 2025-04-01 07:41:13 -0400 (Tue, 01 Apr 2025) EndedAt: 2025-04-01 07:42:10 -0400 (Tue, 01 Apr 2025) EllapsedTime: 56.8 seconds RetCode: 0 Status: OK PackageFile: artMS_1.24.0.zip PackageFileSize: 2.874 MiB