Package: artMS Version: 1.24.0 Command: /home/biocbuild/bbs-3.20-bioc/R/bin/R CMD check --install=check:artMS.install-out.txt --library=/home/biocbuild/bbs-3.20-bioc/R/site-library --timings artMS_1.24.0.tar.gz StartedAt: 2025-03-31 19:53:19 -0400 (Mon, 31 Mar 2025) EndedAt: 2025-03-31 19:56:17 -0400 (Mon, 31 Mar 2025) EllapsedTime: 178.2 seconds RetCode: 0 Status: OK CheckDir: artMS.Rcheck Warnings: 0