Package: arrayMvout Version: 1.64.0 Command: /home/biocbuild/R/R/bin/R CMD INSTALL arrayMvout StartedAt: 2025-03-31 21:08:03 -0000 (Mon, 31 Mar 2025) EndedAt: 2025-03-31 21:09:04 -0000 (Mon, 31 Mar 2025) EllapsedTime: 61.3 seconds RetCode: 0 Status: OK