Package: arrayMvout Version: 1.64.0 Command: chmod a+r arrayMvout -R && F:\biocbuild\bbs-3.20-bioc\R\bin\R.exe CMD build --keep-empty-dirs --no-resave-data arrayMvout StartedAt: 2025-03-31 17:22:45 -0400 (Mon, 31 Mar 2025) EndedAt: 2025-03-31 17:24:16 -0400 (Mon, 31 Mar 2025) EllapsedTime: 90.9 seconds RetCode: 0 Status: OK PackageFile: arrayMvout_1.64.0.tar.gz PackageFileSize: 584.9 KiB