Package: arrayMvout Version: 1.64.0 Command: /home/biocbuild/bbs-3.20-bioc/R/bin/R CMD check --install=check:arrayMvout.install-out.txt --library=/home/biocbuild/bbs-3.20-bioc/R/site-library --timings arrayMvout_1.64.0.tar.gz StartedAt: 2025-03-31 19:53:03 -0400 (Mon, 31 Mar 2025) EndedAt: 2025-03-31 19:58:15 -0400 (Mon, 31 Mar 2025) EllapsedTime: 311.4 seconds RetCode: 0 Status: OK CheckDir: arrayMvout.Rcheck Warnings: 0