Package: arrayMvout Version: 1.64.0 Command: /Library/Frameworks/R.framework/Resources/bin/R CMD check --install=check:arrayMvout.install-out.txt --library=/Library/Frameworks/R.framework/Resources/library --no-vignettes --timings arrayMvout_1.64.0.tar.gz StartedAt: 2025-03-31 23:23:31 -0400 (Mon, 31 Mar 2025) EndedAt: 2025-03-31 23:33:30 -0400 (Mon, 31 Mar 2025) EllapsedTime: 599.3 seconds RetCode: 0 Status: OK CheckDir: arrayMvout.Rcheck Warnings: 0