Package: arrayMvout Version: 1.64.0 Command: rm -rf arrayMvout.buildbin-libdir && mkdir arrayMvout.buildbin-libdir && /Users/biocbuild/BBS/utils/build-universal.sh arrayMvout_1.64.0.tar.gz /Library/Frameworks/R.framework/Resources/bin/R arrayMvout.buildbin-libdir StartedAt: 2025-04-01 11:25:19 -0400 (Tue, 01 Apr 2025) EndedAt: 2025-04-01 11:27:01 -0400 (Tue, 01 Apr 2025) EllapsedTime: 102.2 seconds RetCode: 0 Status: OK PackageFile: arrayMvout_1.64.0.tgz PackageFileSize: 855.7 KiB