Package: arrayMvout Version: 1.64.0 Command: /Library/Frameworks/R.framework/Resources/bin/R CMD build --keep-empty-dirs --no-resave-data arrayMvout StartedAt: 2025-03-31 18:45:26 -0400 (Mon, 31 Mar 2025) EndedAt: 2025-03-31 18:46:48 -0400 (Mon, 31 Mar 2025) EllapsedTime: 82.3 seconds RetCode: 0 Status: OK PackageFile: arrayMvout_1.64.0.tar.gz PackageFileSize: 692.9 KiB