Package: aroma.light Version: 3.36.0 Command: /home/biocbuild/bbs-3.20-bioc/R/bin/R CMD INSTALL aroma.light StartedAt: 2024-11-19 15:25:10 -0500 (Tue, 19 Nov 2024) EndedAt: 2024-11-19 15:25:14 -0500 (Tue, 19 Nov 2024) EllapsedTime: 4.5 seconds RetCode: 0 Status: OK