Package: aroma.light Version: 3.36.0 Command: /home/biocbuild/bbs-3.20-bioc/R/bin/R CMD INSTALL aroma.light StartedAt: 2025-03-31 15:12:01 -0400 (Mon, 31 Mar 2025) EndedAt: 2025-03-31 15:12:05 -0400 (Mon, 31 Mar 2025) EllapsedTime: 3.6 seconds RetCode: 0 Status: OK