Package: aroma.light Version: 3.36.0 Command: /Library/Frameworks/R.framework/Resources/bin/R CMD INSTALL aroma.light StartedAt: 2025-03-31 15:14:28 -0400 (Mon, 31 Mar 2025) EndedAt: 2025-03-31 15:14:30 -0400 (Mon, 31 Mar 2025) EllapsedTime: 2.7 seconds RetCode: 0 Status: OK