Package: appreci8R Version: 1.24.0 Command: rm -rf appreci8R.buildbin-libdir && mkdir appreci8R.buildbin-libdir && F:\biocbuild\bbs-3.20-bioc\R\bin\R.exe CMD INSTALL --build --library=appreci8R.buildbin-libdir appreci8R_1.24.0.tar.gz StartedAt: 2025-04-01 07:41:02 -0400 (Tue, 01 Apr 2025) EndedAt: 2025-04-01 07:42:44 -0400 (Tue, 01 Apr 2025) EllapsedTime: 101.6 seconds RetCode: 0 Status: OK PackageFile: appreci8R_1.24.0.zip PackageFileSize: 1.332 MiB