Package: appreci8R Version: 1.24.0 Command: /home/biocbuild/bbs-3.20-bioc/R/bin/R CMD check --install=check:appreci8R.install-out.txt --library=/home/biocbuild/bbs-3.20-bioc/R/site-library --timings appreci8R_1.24.0.tar.gz StartedAt: 2025-03-31 19:52:58 -0400 (Mon, 31 Mar 2025) EndedAt: 2025-03-31 20:00:07 -0400 (Mon, 31 Mar 2025) EllapsedTime: 428.5 seconds RetCode: 0 Status: OK CheckDir: appreci8R.Rcheck Warnings: 0