Package: appreci8R Version: 1.24.0 Command: /home/biocbuild/bbs-3.20-bioc/R/bin/R CMD build --keep-empty-dirs --no-resave-data --md5 appreci8R StartedAt: 2025-03-31 16:11:14 -0400 (Mon, 31 Mar 2025) EndedAt: 2025-03-31 16:14:18 -0400 (Mon, 31 Mar 2025) EllapsedTime: 184.2 seconds RetCode: 0 Status: OK PackageFile: appreci8R_1.24.0.tar.gz PackageFileSize: 1013 KiB