Package: apeglm Version: 1.28.0 Command: /home/biocbuild/R/R/bin/R CMD INSTALL apeglm StartedAt: 2025-03-31 20:35:57 -0000 (Mon, 31 Mar 2025) EndedAt: 2025-03-31 20:37:18 -0000 (Mon, 31 Mar 2025) EllapsedTime: 80.4 seconds RetCode: 0 Status: OK