Package: apeglm Version: 1.28.0 Command: /home/biocbuild/R/R/bin/R CMD build --keep-empty-dirs --no-resave-data apeglm StartedAt: 2025-03-31 21:22:14 -0000 (Mon, 31 Mar 2025) EndedAt: 2025-03-31 21:24:28 -0000 (Mon, 31 Mar 2025) EllapsedTime: 133.0 seconds RetCode: 0 Status: OK PackageFile: apeglm_1.28.0.tar.gz PackageFileSize: 782.8 KiB