Package: apeglm Version: 1.28.0 Command: /Library/Frameworks/R.framework/Resources/bin/R CMD INSTALL apeglm StartedAt: 2025-03-31 15:48:48 -0400 (Mon, 31 Mar 2025) EndedAt: 2025-03-31 15:49:41 -0400 (Mon, 31 Mar 2025) EllapsedTime: 53.4 seconds RetCode: 0 Status: OK