Package: apeglm Version: 1.28.0 Command: /Library/Frameworks/R.framework/Resources/bin/R CMD build --keep-empty-dirs --no-resave-data apeglm StartedAt: 2025-03-31 18:43:40 -0400 (Mon, 31 Mar 2025) EndedAt: 2025-03-31 18:45:22 -0400 (Mon, 31 Mar 2025) EllapsedTime: 102.4 seconds RetCode: 0 Status: OK PackageFile: apeglm_1.28.0.tar.gz PackageFileSize: 1.263 MiB