Package: apComplex Version: 2.72.0 Command: /home/biocbuild/R/R/bin/R CMD INSTALL apComplex StartedAt: 2025-03-31 20:31:43 -0000 (Mon, 31 Mar 2025) EndedAt: 2025-03-31 20:32:02 -0000 (Mon, 31 Mar 2025) EllapsedTime: 18.1 seconds RetCode: 0 Status: OK