Package: antiProfiles Version: 1.46.0 Command: /home/biocbuild/R/R/bin/R CMD check --install=check:antiProfiles.install-out.txt --library=/home/biocbuild/R/R/site-library --no-vignettes --timings antiProfiles_1.46.0.tar.gz StartedAt: 2025-04-01 03:52:32 -0000 (Tue, 01 Apr 2025) EndedAt: 2025-04-01 03:53:05 -0000 (Tue, 01 Apr 2025) EllapsedTime: 33.1 seconds RetCode: 0 Status: OK CheckDir: antiProfiles.Rcheck Warnings: 0