Package: anota2seq Version: 1.28.0 Command: /home/biocbuild/R/R/bin/R CMD INSTALL anota2seq StartedAt: 2025-03-31 20:57:09 -0000 (Mon, 31 Mar 2025) EndedAt: 2025-03-31 20:57:49 -0000 (Mon, 31 Mar 2025) EllapsedTime: 39.4 seconds RetCode: 0 Status: OK