Package: anota2seq Version: 1.28.0 Command: /home/biocbuild/R/R/bin/R CMD build --keep-empty-dirs --no-resave-data anota2seq StartedAt: 2025-03-31 21:21:42 -0000 (Mon, 31 Mar 2025) EndedAt: 2025-03-31 21:25:08 -0000 (Mon, 31 Mar 2025) EllapsedTime: 205.1 seconds RetCode: 0 Status: OK PackageFile: anota2seq_1.28.0.tar.gz PackageFileSize: 997.4 KiB