Package: anota2seq Version: 1.28.0 Command: F:\biocbuild\bbs-3.20-bioc\R\bin\R.exe CMD check --no-multiarch --install=check:anota2seq.install-out.txt --library=F:\biocbuild\bbs-3.20-bioc\R\library --no-vignettes --timings anota2seq_1.28.0.tar.gz StartedAt: 2025-03-31 22:55:24 -0400 (Mon, 31 Mar 2025) EndedAt: 2025-03-31 23:00:32 -0400 (Mon, 31 Mar 2025) EllapsedTime: 307.9 seconds RetCode: 0 Status: OK CheckDir: anota2seq.Rcheck Warnings: 0