Package: anota2seq Version: 1.28.0 Command: /Library/Frameworks/R.framework/Resources/bin/R CMD check --install=check:anota2seq.install-out.txt --library=/Library/Frameworks/R.framework/Resources/library --no-vignettes --timings anota2seq_1.28.0.tar.gz StartedAt: 2025-03-31 23:20:28 -0400 (Mon, 31 Mar 2025) EndedAt: 2025-03-31 23:30:05 -0400 (Mon, 31 Mar 2025) EllapsedTime: 576.9 seconds RetCode: 0 Status: OK CheckDir: anota2seq.Rcheck Warnings: 0