Package: anota Version: 1.54.0 Command: /home/biocbuild/bbs-3.20-bioc/R/bin/R CMD build --keep-empty-dirs --no-resave-data --md5 anota StartedAt: 2025-03-31 16:10:41 -0400 (Mon, 31 Mar 2025) EndedAt: 2025-03-31 16:11:07 -0400 (Mon, 31 Mar 2025) EllapsedTime: 26.0 seconds RetCode: 0 Status: OK PackageFile: anota_1.54.0.tar.gz PackageFileSize: 944.4 KiB