Package: anota Version: 1.54.0 Command: /Library/Frameworks/R.framework/Resources/bin/R CMD INSTALL anota StartedAt: 2025-03-31 16:16:34 -0400 (Mon, 31 Mar 2025) EndedAt: 2025-03-31 16:16:53 -0400 (Mon, 31 Mar 2025) EllapsedTime: 19.4 seconds RetCode: 0 Status: OK