Package: annotatr Version: 1.32.0 Command: /home/biocbuild/R/R/bin/R CMD build --keep-empty-dirs --no-resave-data annotatr StartedAt: 2025-03-31 21:21:20 -0000 (Mon, 31 Mar 2025) EndedAt: 2025-03-31 21:23:49 -0000 (Mon, 31 Mar 2025) EllapsedTime: 149.1 seconds RetCode: 0 Status: OK PackageFile: annotatr_1.32.0.tar.gz PackageFileSize: 2.096 MiB