Package: annotationTools Version: 1.80.0 Command: /home/biocbuild/R/R/bin/R CMD build --keep-empty-dirs --no-resave-data annotationTools StartedAt: 2025-03-31 21:21:11 -0000 (Mon, 31 Mar 2025) EndedAt: 2025-03-31 21:21:20 -0000 (Mon, 31 Mar 2025) EllapsedTime: 9.0 seconds RetCode: 0 Status: OK PackageFile: annotationTools_1.80.0.tar.gz PackageFileSize: 325.9 KiB