Package: annotationTools Version: 1.80.0 Command: /Library/Frameworks/R.framework/Resources/bin/R CMD check --install=check:annotationTools.install-out.txt --library=/Library/Frameworks/R.framework/Resources/library --no-vignettes --timings annotationTools_1.80.0.tar.gz StartedAt: 2025-04-01 10:46:34 -0400 (Tue, 01 Apr 2025) EndedAt: 2025-04-01 10:47:06 -0400 (Tue, 01 Apr 2025) EllapsedTime: 31.7 seconds RetCode: 0 Status: OK CheckDir: annotationTools.Rcheck Warnings: 0