Package: annotationTools Version: 1.80.0 Command: /Library/Frameworks/R.framework/Resources/bin/R CMD build --keep-empty-dirs --no-resave-data annotationTools StartedAt: 2025-03-31 18:40:55 -0400 (Mon, 31 Mar 2025) EndedAt: 2025-03-31 18:41:10 -0400 (Mon, 31 Mar 2025) EllapsedTime: 14.9 seconds RetCode: 0 Status: OK PackageFile: annotationTools_1.80.0.tar.gz PackageFileSize: 332.1 KiB