Package: annmap Version: 1.48.0 Command: rm -rf annmap.buildbin-libdir && mkdir annmap.buildbin-libdir && /Users/biocbuild/BBS/utils/build-universal.sh annmap_1.48.0.tar.gz /Library/Frameworks/R.framework/Resources/bin/R annmap.buildbin-libdir StartedAt: 2025-04-01 11:24:29 -0400 (Tue, 01 Apr 2025) EndedAt: 2025-04-01 11:25:21 -0400 (Tue, 01 Apr 2025) EllapsedTime: 51.9 seconds RetCode: 0 Status: OK PackageFile: annmap_1.48.0.tgz PackageFileSize: 1.286 MiB