Package: annaffy Version: 1.78.0 Command: /home/biocbuild/bbs-3.20-bioc/R/bin/R CMD check --install=check:annaffy.install-out.txt --library=/home/biocbuild/bbs-3.20-bioc/R/site-library --timings annaffy_1.78.0.tar.gz StartedAt: 2025-03-31 19:50:11 -0400 (Mon, 31 Mar 2025) EndedAt: 2025-03-31 19:51:55 -0400 (Mon, 31 Mar 2025) EllapsedTime: 104.1 seconds RetCode: 0 Status: WARNINGS CheckDir: annaffy.Rcheck Warnings: 1