Package: annaffy Version: 1.78.0 Command: /home/biocbuild/bbs-3.20-bioc/R/bin/R CMD build --keep-empty-dirs --no-resave-data --md5 annaffy StartedAt: 2025-03-31 16:10:03 -0400 (Mon, 31 Mar 2025) EndedAt: 2025-03-31 16:10:33 -0400 (Mon, 31 Mar 2025) EllapsedTime: 30.0 seconds RetCode: 0 Status: OK PackageFile: annaffy_1.78.0.tar.gz PackageFileSize: 317.1 KiB