Package: annaffy Version: 1.78.0 Command: /Library/Frameworks/R.framework/Resources/bin/R CMD INSTALL annaffy StartedAt: 2025-03-31 15:26:12 -0400 (Mon, 31 Mar 2025) EndedAt: 2025-03-31 15:26:49 -0400 (Mon, 31 Mar 2025) EllapsedTime: 36.9 seconds RetCode: 0 Status: OK