Package: annaffy Version: 1.78.0 Command: /Library/Frameworks/R.framework/Resources/bin/R CMD build --keep-empty-dirs --no-resave-data annaffy StartedAt: 2025-03-31 16:52:01 -0400 (Mon, 31 Mar 2025) EndedAt: 2025-03-31 16:53:40 -0400 (Mon, 31 Mar 2025) EllapsedTime: 99.2 seconds RetCode: 0 Status: OK PackageFile: annaffy_1.78.0.tar.gz PackageFileSize: 314.7 KiB