Package: annaffy Version: 1.78.0 Command: /Library/Frameworks/R.framework/Resources/bin/R CMD check --install=check:annaffy.install-out.txt --library=/Library/Frameworks/R.framework/Resources/library --no-vignettes --timings annaffy_1.78.0.tar.gz StartedAt: 2025-04-01 10:41:52 -0400 (Tue, 01 Apr 2025) EndedAt: 2025-04-01 10:43:56 -0400 (Tue, 01 Apr 2025) EllapsedTime: 124.0 seconds RetCode: 0 Status: WARNINGS CheckDir: annaffy.Rcheck Warnings: 1