Package: amplican Version: 1.28.0 Command: /Library/Frameworks/R.framework/Resources/bin/R CMD check --install=check:amplican.install-out.txt --library=/Library/Frameworks/R.framework/Resources/library --no-vignettes --timings amplican_1.28.0.tar.gz StartedAt: 2025-03-31 23:15:01 -0400 (Mon, 31 Mar 2025) EndedAt: 2025-03-31 23:21:18 -0400 (Mon, 31 Mar 2025) EllapsedTime: 377.4 seconds RetCode: 0 Status: OK CheckDir: amplican.Rcheck Warnings: 0