Package: altcdfenvs Version: 2.68.0 Command: /Library/Frameworks/R.framework/Resources/bin/R CMD build --keep-empty-dirs --no-resave-data altcdfenvs StartedAt: 2025-03-31 16:51:10 -0400 (Mon, 31 Mar 2025) EndedAt: 2025-03-31 16:53:18 -0400 (Mon, 31 Mar 2025) EllapsedTime: 128.3 seconds RetCode: 0 Status: OK PackageFile: altcdfenvs_2.68.0.tar.gz PackageFileSize: 668.7 KiB