Package: alevinQC Version: 1.22.0 Command: F:\biocbuild\bbs-3.20-bioc\R\bin\R.exe CMD INSTALL alevinQC StartedAt: 2025-03-31 15:48:02 -0400 (Mon, 31 Mar 2025) EndedAt: 2025-03-31 15:50:53 -0400 (Mon, 31 Mar 2025) EllapsedTime: 171.0 seconds RetCode: 0 Status: OK