Package: alabaster Version: 1.6.0 Command: /home/biocbuild/R/R/bin/R CMD INSTALL alabaster StartedAt: 2025-03-31 21:05:48 -0000 (Mon, 31 Mar 2025) EndedAt: 2025-03-31 21:06:46 -0000 (Mon, 31 Mar 2025) EllapsedTime: 57.5 seconds RetCode: 0 Status: OK