Package: alabaster Version: 1.6.0 Command: /home/biocbuild/bbs-3.20-bioc/R/bin/R CMD INSTALL alabaster StartedAt: 2025-03-31 15:56:30 -0400 (Mon, 31 Mar 2025) EndedAt: 2025-03-31 15:57:17 -0400 (Mon, 31 Mar 2025) EllapsedTime: 47.1 seconds RetCode: 0 Status: OK