Package: alabaster Version: 1.6.0 Command: /home/biocbuild/bbs-3.20-bioc/R/bin/R CMD check --install=check:alabaster.install-out.txt --library=/home/biocbuild/bbs-3.20-bioc/R/site-library --timings alabaster_1.6.0.tar.gz StartedAt: 2025-03-31 19:46:30 -0400 (Mon, 31 Mar 2025) EndedAt: 2025-03-31 19:50:11 -0400 (Mon, 31 Mar 2025) EllapsedTime: 221.3 seconds RetCode: 0 Status: OK CheckDir: alabaster.Rcheck Warnings: 0