Package: alabaster.vcf Version: 1.6.0 Command: /Library/Frameworks/R.framework/Resources/bin/R CMD check --install=check:alabaster.vcf.install-out.txt --library=/Library/Frameworks/R.framework/Resources/library --no-vignettes --timings alabaster.vcf_1.6.0.tar.gz StartedAt: 2025-03-31 23:13:11 -0400 (Mon, 31 Mar 2025) EndedAt: 2025-03-31 23:24:45 -0400 (Mon, 31 Mar 2025) EllapsedTime: 694.1 seconds RetCode: 0 Status: OK CheckDir: alabaster.vcf.Rcheck Warnings: 0