Package: alabaster.vcf Version: 1.6.0 Command: /Library/Frameworks/R.framework/Resources/bin/R CMD INSTALL alabaster.vcf StartedAt: 2025-03-31 17:54:06 -0400 (Mon, 31 Mar 2025) EndedAt: 2025-03-31 17:54:56 -0400 (Mon, 31 Mar 2025) EllapsedTime: 49.7 seconds RetCode: 0 Status: OK