Package: alabaster.string Version: 1.6.0 Command: rm -rf alabaster.string.buildbin-libdir && mkdir alabaster.string.buildbin-libdir && F:\biocbuild\bbs-3.20-bioc\R\bin\R.exe CMD INSTALL --build --library=alabaster.string.buildbin-libdir alabaster.string_1.6.0.tar.gz StartedAt: 2025-04-01 07:38:57 -0400 (Tue, 01 Apr 2025) EndedAt: 2025-04-01 07:39:21 -0400 (Tue, 01 Apr 2025) EllapsedTime: 23.8 seconds RetCode: 0 Status: OK PackageFile: alabaster.string_1.6.0.zip PackageFileSize: 272.8 KiB