Package: alabaster.spatial Version: 1.6.1 Command: F:\biocbuild\bbs-3.20-bioc\R\bin\R.exe CMD INSTALL alabaster.spatial StartedAt: 2025-03-31 16:56:23 -0400 (Mon, 31 Mar 2025) EndedAt: 2025-03-31 16:57:10 -0400 (Mon, 31 Mar 2025) EllapsedTime: 47.0 seconds RetCode: 0 Status: OK