Package: alabaster.spatial Version: 1.6.1 Command: /Library/Frameworks/R.framework/Resources/bin/R CMD check --install=check:alabaster.spatial.install-out.txt --library=/Library/Frameworks/R.framework/Resources/library --no-vignettes --timings alabaster.spatial_1.6.1.tar.gz StartedAt: 2025-03-31 23:12:55 -0400 (Mon, 31 Mar 2025) EndedAt: 2025-03-31 23:20:28 -0400 (Mon, 31 Mar 2025) EllapsedTime: 453.3 seconds RetCode: 0 Status: OK CheckDir: alabaster.spatial.Rcheck Warnings: 0