Package: alabaster.se Version: 1.6.0 Command: /home/biocbuild/bbs-3.20-bioc/R/bin/R CMD INSTALL alabaster.se StartedAt: 2025-03-31 15:55:07 -0400 (Mon, 31 Mar 2025) EndedAt: 2025-03-31 15:55:30 -0400 (Mon, 31 Mar 2025) EllapsedTime: 22.8 seconds RetCode: 0 Status: OK