Package: alabaster.se Version: 1.6.0 Command: rm -rf alabaster.se.buildbin-libdir && mkdir alabaster.se.buildbin-libdir && /Users/biocbuild/BBS/utils/build-universal.sh alabaster.se_1.6.0.tar.gz /Library/Frameworks/R.framework/Resources/bin/R alabaster.se.buildbin-libdir StartedAt: 2025-04-02 13:15:47 -0400 (Wed, 02 Apr 2025) EndedAt: 2025-04-02 13:16:18 -0400 (Wed, 02 Apr 2025) EllapsedTime: 31.7 seconds RetCode: 0 Status: OK PackageFile: alabaster.se_1.6.0.tgz PackageFileSize: 295.5 KiB